BEGIN:VCALENDAR
VERSION:2.0
PRODID:-//DrHennessacademy.com - ECPv6.15.13.1//NONSGML v1.0//EN
CALSCALE:GREGORIAN
METHOD:PUBLISH
X-WR-CALNAME:DrHennessacademy.com
X-ORIGINAL-URL:https://drhennessyacademy.com
X-WR-CALDESC:Events for DrHennessacademy.com
REFRESH-INTERVAL;VALUE=DURATION:PT1H
X-Robots-Tag:noindex
X-PUBLISHED-TTL:PT1H
BEGIN:VTIMEZONE
TZID:UTC
BEGIN:STANDARD
TZOFFSETFROM:+0000
TZOFFSETTO:+0000
TZNAME:UTC
DTSTART:20210101T000000
END:STANDARD
END:VTIMEZONE
BEGIN:VEVENT
DTSTART;VALUE=DATE:20220123
DTEND;VALUE=DATE:20220124
DTSTAMP:20260420T161832
CREATED:20211206T162445Z
LAST-MODIFIED:20240411T103701Z
UID:10000054-1642896000-1642982399@drhennessyacademy.com
SUMMARY:Refresher Botulinum Course
DESCRIPTION:Refresher Botulinum Course\nUnderstandably\, due to the frequent lockdowns and uncertainties that have surrounded us\, we have received a lot of enquiries on whether we offer refresher courses. So\, we took on board what you had asked for\, and now we are pleased to announce that for a short period\, we will add Refresher Practicals to our course dates. Not everyone is able to get enough practical experience in their own clinic when they finish a foundation course\, and as time goes on\, confidence diminishes. We are also aware that once your course was completed\, due to the pandemic\, you couldn’t practice the skills that you had been taught. And sometimes\, the provider you had chosen to train you in aesthetics did not give you the practical time that you believe you should have received. Our Botulinum Refresher Course has been designed with this in mind. \n\nThe Dr Hennessy Academy full half day practical with 1:1/over the shoulder guidance whilst you inject on a live model \n\n\n\nSmall intimate groups of like minded healthcare professionals \n\n\n\nAll upper face toxin areas covered and explained: \n\n\n\n\nLandmarks for injections\nUpper facial 3D anatomy\nComplications explained\nDosage of all three toxins explained – Azzalure\, Botox and Bocouture.\n\n\n\n\nThe half a day course will focus on you receiving practical toxin experience with the highly experienced and respected Dr Hennessy. \n\n\n\nWe will only be accepting delegates who have completed a Foundation/beginners course with either Dr Hennessy Academy or other aesthetic training providers and you must be a healthcare professional. \n\nProof of attendance of a previous course will be required.
URL:https://drhennessyacademy.com/booking/5807-2-2/
LOCATION:Dr Hennessy Academy\, 5A Millenium Office Park\, Preston\, 01704567557\, PR2 5DB\, United Kingdom
CATEGORIES:Refresher Botulinum Course
ATTACH;FMTTYPE=image/jpeg:https://drhennessyacademy.com/wp-content/uploads/2021/11/brotox1-1.jpg
END:VEVENT
END:VCALENDAR